BEGIN:VCALENDAR
VERSION:2.0
PRODID:-//GCGRC - ECPv6.15.18//NONSGML v1.0//EN
CALSCALE:GREGORIAN
METHOD:PUBLISH
X-ORIGINAL-URL:https://www.gcgrc.org
X-WR-CALDESC:Events for GCGRC
REFRESH-INTERVAL;VALUE=DURATION:PT1H
X-Robots-Tag:noindex
X-PUBLISHED-TTL:PT1H
BEGIN:VTIMEZONE
TZID:America/Detroit
BEGIN:DAYLIGHT
TZOFFSETFROM:-0500
TZOFFSETTO:-0400
TZNAME:EDT
DTSTART:20240310T070000
END:DAYLIGHT
BEGIN:STANDARD
TZOFFSETFROM:-0400
TZOFFSETTO:-0500
TZNAME:EST
DTSTART:20241103T060000
END:STANDARD
BEGIN:DAYLIGHT
TZOFFSETFROM:-0500
TZOFFSETTO:-0400
TZNAME:EDT
DTSTART:20250309T070000
END:DAYLIGHT
BEGIN:STANDARD
TZOFFSETFROM:-0400
TZOFFSETTO:-0500
TZNAME:EST
DTSTART:20251102T060000
END:STANDARD
BEGIN:DAYLIGHT
TZOFFSETFROM:-0500
TZOFFSETTO:-0400
TZNAME:EDT
DTSTART:20260308T070000
END:DAYLIGHT
BEGIN:STANDARD
TZOFFSETFROM:-0400
TZOFFSETTO:-0500
TZNAME:EST
DTSTART:20261101T060000
END:STANDARD
END:VTIMEZONE
BEGIN:VEVENT
DTSTART;TZID=America/Detroit:20251101T083000
DTEND;TZID=America/Detroit:20251102T163000
DTSTAMP:20260423T074901
CREATED:20250801T121119Z
LAST-MODIFIED:20250801T121404Z
UID:7356-1761985800-1762101000@www.gcgrc.org
SUMMARY:Handling and Grooming Seminar with Amy Comer
DESCRIPTION:Dates & Time:The seminar will take place on November 1-2\, 2025\, from 8:30 AM to 4:30 PM. \n\n\n\nLocation:It will be held at the Warren County Fairgrounds\, located at 665 N. Broadway St.\, Lebanon\, OH 45036. \n\n\n\nTopics:Day 1 covers grooming your Golden Retriever\, and Day 2 focuses on handling in the Conformation ring. \n\n\n\nCost:Pricing varies for GCGRC Members\, GRGRC Members\, and Non-Members\, with options for 1-day or 2-day working spots and audit spots. \n\n\n\nContact:For more information\, you can contact Jenny Ford\, Lynn Korb\, or Denise Werner.
URL:https://www.gcgrc.org/event/handling-and-grooming-seminar-with-amy-comer/
LOCATION:Warren County Fairgrounds\, 665 Broadway St\, Labanon\, Ohio\, 45036\, United States
CATEGORIES:dog days,seminar,shows
ORGANIZER;CN="Jenny Ford":MAILTO:jenny.ford2488@gmail.com
END:VEVENT
END:VCALENDAR